BEGIN:VCALENDAR
VERSION:2.0
PRODID:-//Elisabeth Lacoste Naturopathie - ECPv6.15.20//NONSGML v1.0//EN
CALSCALE:GREGORIAN
METHOD:PUBLISH
X-ORIGINAL-URL:https://toulousenaturopathie.fr
X-WR-CALDESC:Évènements pour Elisabeth Lacoste Naturopathie
REFRESH-INTERVAL;VALUE=DURATION:PT1H
X-Robots-Tag:noindex
X-PUBLISHED-TTL:PT1H
BEGIN:VTIMEZONE
TZID:Europe/Paris
BEGIN:DAYLIGHT
TZOFFSETFROM:+0100
TZOFFSETTO:+0200
TZNAME:CEST
DTSTART:20240331T010000
END:DAYLIGHT
BEGIN:STANDARD
TZOFFSETFROM:+0200
TZOFFSETTO:+0100
TZNAME:CET
DTSTART:20241027T010000
END:STANDARD
BEGIN:DAYLIGHT
TZOFFSETFROM:+0100
TZOFFSETTO:+0200
TZNAME:CEST
DTSTART:20250330T010000
END:DAYLIGHT
BEGIN:STANDARD
TZOFFSETFROM:+0200
TZOFFSETTO:+0100
TZNAME:CET
DTSTART:20251026T010000
END:STANDARD
BEGIN:DAYLIGHT
TZOFFSETFROM:+0100
TZOFFSETTO:+0200
TZNAME:CEST
DTSTART:20260329T010000
END:DAYLIGHT
BEGIN:STANDARD
TZOFFSETFROM:+0200
TZOFFSETTO:+0100
TZNAME:CET
DTSTART:20261025T010000
END:STANDARD
END:VTIMEZONE
BEGIN:VEVENT
DTSTART;TZID=Europe/Paris:20251015T193000
DTEND;TZID=Europe/Paris:20251015T210000
DTSTAMP:20260424T214934
CREATED:20250523T183104Z
LAST-MODIFIED:20250910T170736Z
UID:1447852-1760556600-1760562000@toulousenaturopathie.fr
SUMMARY:Voyage sonore BEAUTÉ (Balance) – Toulouse COMPLET
DESCRIPTION:COMPLET Voyage sonore BEAUTÉ (BALANCE) – Toulouse\n  \n\n\n\n\n\n\n\n\n\n\n\n\n\n\n\n\n\n\n\n\n\n\n\n\n\n\n\n\n\n\n\n\n\n\n\n\n\n\n\n\n\n\n\n\n\n\n\n\n\n\n\n\n\n\n\n\n\n\n\n\n\n\n\n\n\n\n\n\n\n\n\n\n\n\n\n\n\n\n\n\n\n\n\n\n\n\n\n\nLa Balance est un signe d’air\, centrée sur l’harmonie\, la beauté et les relations. \nBienvenue dans l’univers du voyage sonore Beauté (Balance) – Toulouse ! \n  \n\n\n\n\n\n\n\n\n\n\n\n\n\n\n\n\n\n\n\n\n\n\n\n\n\n\n\n\n\nLes bienfaits du voyage sonore Beauté à Toulouse\n\nDétente profonde : Les sons thérapeutiques t’invitent à une relaxation immersive\, idéale pour relâcher le stress et les tensions accumulées.\nHarmonisation intérieure : En lien avec l’énergie du signe de la Balance\, les vibrations sonores restaurent l’équilibre intérieur et cultivent une sensation de paix et de beauté.\nAmélioration de la résilience : Plus alignée et centrée\, tu fais face au stress avec sérénité et confiance.\nClarté mentale renforcée : Le bain de sons apaise ton mental\, favorisant la concentration et une vision plus claire de toi et de ta vie.\n\n\nPourquoi t’inscrire au voyage sonore Beauté (Balance) à Toulouse ?\n\nUne expérience sensorielle unique : Plonge dans un voyage sonore spécialement pensé pour incarner l’énergie du signe de la Balance : recherche d’harmonie\, de beauté\, de justesse.\nUn moment de partage : Rejoins un petit groupe bienveillant pour une parenthèse douce et chaleureuse à Toulouse.\nUn cadeau pour toi : T’accorder ce moment\, c’est t’autoriser à rayonner davantage\, avec équilibre et grâce.\n\n\nLes vertus des sons des bols chantants\n\nApaisent les émotions instables\, en particulier dans les périodes de déséquilibre intérieur.\nÉveillent ta conscience et t’ouvrent à une perception plus fine de toi-même.\nLibèrent le stress\, la fatigue mentale et les tensions physiques.\nSoulagent les douleurs chroniques ou passagères.\nPréparent à une méditation profonde et intuitive.\nDébloquent les tensions énergétiques et mentales.\nSoutiennent l’immunité naturelle.\nAméliorent la qualité du sommeil.\nRenforcent la vitalité et les capacités d’auto-guérison.\nDéveloppent la mémoire\, la concentration et la créativité.\n\n\nDéroulé du voyage sonore BEAUTÉ – Balance – Toulouse\n\nAccueil : 10 minutes d’échange pour poser l’intention du moment.\nAncrage : 5 à 10 minutes de méditation guidée\, en position confortable\, pour se reconnecter à soi.\nVoyage sonore : 40 à 50 minutes de relaxation allongée au cœur des vibrations harmonisantes.\nRetour à soi et partage : 20 minutes de retour à l’instant présent avec dégustation d’infusion ayurvédique et tirage d’oracle en lien avec le signe de la Balance\, pour celles et ceux qui le souhaitent.\nPetit groupe intimiste : 5 à 7 personnes.\n\n\nInscription\n\nRéservation en ligne uniquement – tarif : 30€ / personne\nAnnulation possible jusqu’à 48h avant (3€ de commissions retenues par la plateforme). Aucun remboursement après ce délai.\n\n\nInfos pratiques\n🧘 Apporte ton tapis de yoga\, un coussin pour la tête\, un plaid douillet et des chaussettes épaisses si tu es frileuse.👚 Choisis une tenue ample et confortable pour profiter pleinement du soin.🤰 Les femmes enceintes sont les bienvenues : bébé adorera !⚠️ Contre-indication : port de pacemaker \n\n\n\n\n\n\n\n\n\n\n\n\n\n\n\n\n\n\n\n\n\n\n\n\n\n\n\n\n\n\n\n\n\n\n\n\n\n\n\n\n\n\n\n\n\n\n\n\n\n\n\n\n\n\n\n\n\n\n\n\n\n\n\n\n\n\n\n\n\n\n\n\n\n\n\n\n\n\n\n\n\n\n\n\n\n\n\n JE M’INSCRIS\nau bain de sons BEAUTÉ Toulouse
URL:https://toulousenaturopathie.fr/evenements/voyage-sonore-beaute-toulouse/
LOCATION:125 chemin Ramelet Moundi 31100 Toulouse
CATEGORIES:VOYAGES SONORES
ATTACH;FMTTYPE=image/jpeg:https://toulousenaturopathie.fr/wp-content/uploads/2025/05/19voyage-sonores-Toulouse.jpg
ORGANIZER;CN="Elisabeth LACOSTE":MAILTO:elisabethlacoste.naturopathie@gmail.com
END:VEVENT
BEGIN:VEVENT
DTSTART;TZID=Europe/Paris:20251020T193000
DTEND;TZID=Europe/Paris:20251020T210000
DTSTAMP:20260424T214934
CREATED:20250924T134113Z
LAST-MODIFIED:20250924T134612Z
UID:1448027-1760988600-1760994000@toulousenaturopathie.fr
SUMMARY:Voyage sonore NOUVELLE LUNE OCTOBRE – Toulouse
DESCRIPTION:Voyage sonore Nouvelle lune Octobre – Toulouse\n  \n\n\n\n\n\n\n\n\n\n\n\n\n\n\n\n\n\n\n\n\n\n\n\n\n\n\n\n\n\n\n\n\n\n\n\n\n\n\n\n\n\n\n\n\n\n\n\n\n\n\n\n\n\n\n\n\n\n\n\n\n\n\n\n\n\n\n\n\n\n\n\n\n\n\n\n\n\n\n\n\n\n\n\n\n\n\nLa Nouvelle Lune du 21 octobre est une invitation puissante à semer de nouvelles intentions et à accueillir un cycle de transformation. Ce moment symbolise le renouveau\, la clarté et la possibilité de repartir sur des bases solides. \nJe t’invite à vivre une expérience sensorielle unique lors d’un voyage sonore à Toulouse\, la veille de la nouvelle lune\, pour t’aligner avec ces énergies et ouvrir un nouvel espace intérieur. \n\n\n\n\n\n\n\n\n\n\n\n\n\n\n\n\n\n\n\n\n\n\n\n\n\n\n\n\n\n\nPourquoi ce voyage sonore ?\nSous les vibrations douces et enveloppantes des instruments comme les bols chantants\, de cristal\, tambours\, carillons\, crécelles\, tu seras guidé.e vers un état de relaxation profonde\, idéal pour : \n\nLibérer le stress et les tensions accumulées\nTe connecter à ton intuition et à tes émotions\nClarifier tes intentions pour ce nouveau cycle lunaire\nStimuler l’énergie vitale et l’harmonisation du corps et de l’esprit\n\n\nLe thème de la nouvelle lune du 21 octobre\nCette nouvelle lune porte une énergie de renouveau et de recentrage. C’est le moment parfait pour : \n\nTe libérer de ce qui t’alourdit\nIdentifier tes véritables désirs\nPlanter des graines pour les projets qui t’appellent\n\nPendant le bain sonore\, je t’accompagnerai pour plonger au cœur de toi-même\, grâce à une guidance intuitive et des fréquences qui t’aideront à retrouver l’équilibre et la clarté. \n\nDéroulé du voyage sonore Nouvelle lune à Toulouse\n\nAccueil : Cercle d’arrivée et intentions (10mn) autour de la thématique\nPréparation : Méditation guidée (5 à 10mn) pour ouvrir ton espace intérieur à la découverte\nVoyage sonore : 40 à 50mn de vibrations expansives pour t’aligner\nIntégration : 20mn d’ancrage\, dégustation d’infusion et tirage d’oracle\nPetit groupe de 5 à 7 personnes pour garder un cadre intime.\n\n\nInscription\n\n30€ / personne – Réservation uniquement en ligne\nAnnulation possible jusqu’à 48h avant (3€ de commissions retenues par la plateforme). Aucun remboursement après ce délai.\n\n\nInfos pratiques\n🧘‍♀️ Prends ton tapis\, un coussin et un plaid douillet.👖 Préfère une tenue confortable qui te laisse libre de tes mouvements.🤰 Les femmes enceintes sont les bienvenues\, sauf contre-indication.⚠️ Voyage sonore déconseillé aux porteurs de pacemaker. \n\n\n\n\n\n\n\n\n\n\n\n\n\n\n\n\n\n\n\n\n\n\n\n\n\n\n\n\n\n\n\n\n\n\n\n\n\n\n\n\n\n\n\n\n\n\n\n\n\n\n\n\n\n\n\n\n\n\n\n\n\n\n\n\n\n\n\n\n\n\n\n\n\n\n\n\n\n\n\n\n\n\n\n\n\n\n\n JE M’INSCRIS\nau voyage sonore NOUVELLE LUNE en Octobre à Toulouse
URL:https://toulousenaturopathie.fr/evenements/voyage-sonore-nouvelle-lune-octobre-toulouse/
LOCATION:125 chemin Ramelet Moundi 31100 Toulouse
CATEGORIES:VOYAGES SONORES
ATTACH;FMTTYPE=image/jpeg:https://toulousenaturopathie.fr/wp-content/uploads/2025/09/11.jpg
ORGANIZER;CN="Elisabeth LACOSTE":MAILTO:elisabethlacoste.naturopathie@gmail.com
END:VEVENT
END:VCALENDAR